BEGIN:VCALENDAR
PRODID:-//AT Content Types//AT Event//EN
VERSION:2.0
METHOD:PUBLISH
BEGIN:VEVENT
DTSTAMP:20260421T215449Z
CREATED:20180109T151402Z
UID:ATEvent-36e069f3c1276a1dffa28c19568362ec
LAST-MODIFIED:20180109T151402Z
SUMMARY:Public drop-in session
DTSTART:20180201T180000Z
DTEND:20180201T200000Z
DESCRIPTION:Shoreditch Opportunity Hub\n137-139 Bowling Green Walk (co
 rner of Pitfield St)\nN1 6AL
CLASS:PUBLIC
END:VEVENT
END:VCALENDAR
