BEGIN:VCALENDAR
PRODID:-//AT Content Types//AT Event//EN
VERSION:2.0
METHOD:PUBLISH
BEGIN:VEVENT
DTSTAMP:20260421T203156Z
CREATED:20180109T151402Z
UID:ATEvent-eb08f4e9649058781c0b22a0b04974fd
LAST-MODIFIED:20180109T151402Z
SUMMARY:Public drop-in session
DTSTART:20180207T180000Z
DTEND:20180207T200000Z
DESCRIPTION:Shoreditch Opportunity Hub\n137-139 Bowling Green Walk (co
 rner of Pitfield St)\nN1 6AL
CLASS:PUBLIC
END:VEVENT
END:VCALENDAR
