BEGIN:VCALENDAR
PRODID:-//AT Content Types//AT Event//EN
VERSION:2.0
METHOD:PUBLISH
BEGIN:VEVENT
DTSTAMP:20260419T233003Z
CREATED:20161110T120438Z
UID:ATEvent-74e0b38fd7891b9412c062042c317703
LAST-MODIFIED:20170103T153913Z
SUMMARY:Dalston Drop-in session 2 - Dalston CLR James Library - Dalston Lane\, London E8 3BQ
DTSTART:20161124T170000Z
DTEND:20161124T190000Z
DESCRIPTION:1pm-3pm and 5pm-7pm\nIf you would like to talk to a Planni
 ng Officer about the Local Plan 2033\, come along to our drop-in sessi
 on. You will also be able to collect leaflets and fill out the questio
 nnaire.
CLASS:PUBLIC
END:VEVENT
END:VCALENDAR
