BEGIN:VCALENDAR
PRODID:-//AT Content Types//AT Event//EN
VERSION:2.0
METHOD:PUBLISH
BEGIN:VEVENT
DTSTAMP:20260419T232814Z
CREATED:20161110T120438Z
UID:ATEvent-ab8347b934bb057a231146724c65ed28
LAST-MODIFIED:20170103T153914Z
SUMMARY:Dalston Drop-in session 1 - Dalston CLR James Library - Dalston Lane\, London E8 3BQ
DTSTART:20161124T130000Z
DTEND:20161124T150000Z
DESCRIPTION:1pm-3pm and 5pm-7pm\nIf you would like to talk to a Planni
 ng Officer about the Local Plan 2033\, come along to our drop-in sessi
 on. You will also be able to collect leaflets and fill out the questio
 nnaire.
CLASS:PUBLIC
END:VEVENT
END:VCALENDAR
