BEGIN:VCALENDAR
PRODID:-//AT Content Types//AT Event//EN
VERSION:2.0
METHOD:PUBLISH
BEGIN:VEVENT
DTSTAMP:20260419T232556Z
CREATED:20161110T120439Z
UID:ATEvent-9ec8ab314f149e52418e2cf4d42f3ec2
LAST-MODIFIED:20170103T153914Z
SUMMARY:Hackney Central Drop-in session - Mare Street and Westgate Street junction (outside Space Studios)
DTSTART:20161110T150000Z
DTEND:20161110T180000Z
DESCRIPTION:If you would like to talk to a Planning Officer about the 
 Local Plan 2033\, come along to our drop-in session. You'll also be ab
 le to collect leaflets about the consultation and fill out the questio
 nnaire.
CLASS:PUBLIC
END:VEVENT
END:VCALENDAR
