BEGIN:VCALENDAR
PRODID:-//AT Content Types//AT Event//EN
VERSION:2.0
METHOD:PUBLISH
BEGIN:VEVENT
DTSTAMP:20260419T232809Z
CREATED:20161110T120439Z
UID:ATEvent-8ee29809491303827059b01939ace1e6
LAST-MODIFIED:20170103T153914Z
SUMMARY:Homerton Drop-in session - Wally Foster Community Centre\, Homerton Road\, London E9 5QB
DTSTART:20161114T150000Z
DTEND:20161114T180000Z
DESCRIPTION:If you would like to talk to a Planning Officer about the 
 Local Plan 2033\, come along to our drop-in session. You will also be 
 able to collect leaflets and fill out the questionnaire.
CLASS:PUBLIC
END:VEVENT
END:VCALENDAR
