BEGIN:VCALENDAR
PRODID:-//AT Content Types//AT Event//EN
VERSION:2.0
METHOD:PUBLISH
BEGIN:VEVENT
DTSTAMP:20260419T232556Z
CREATED:20161110T120439Z
UID:ATEvent-5c04c07d326a477a3c97498b6f5d31ea
LAST-MODIFIED:20170103T153914Z
SUMMARY:Shoreditch Drop-in session - Hackney House - 25-27 Curtain Road\, Hackney\, London\, EC2A 3LT
DTSTART:20161117T140000Z
DTEND:20161117T170000Z
DESCRIPTION:If you would like to talk to a Planning Officer about the 
 Local Plan 2033\, come along to our drop-in session. You will also be 
 able to collect leaflets and fill out the questionnaire.
CLASS:PUBLIC
END:VEVENT
END:VCALENDAR
