BEGIN:VCALENDAR
PRODID:-//AT Content Types//AT Event//EN
VERSION:2.0
METHOD:PUBLISH
BEGIN:VEVENT
DTSTAMP:20260419T232809Z
CREATED:20161110T120439Z
UID:ATEvent-aa28cb213bf875f24b58e01a914dda17
LAST-MODIFIED:20170103T153914Z
SUMMARY:Springfield Drop-in session - Wrens Park Community Hall\, Warwick Grove - Warwick Grove\, Springfield\, E5 9LL
DTSTART:20161121T150000Z
DTEND:20161121T180000Z
DESCRIPTION:If you would like to talk to a Planning Officer about the 
 Local Plan 2033\, come along to our drop-in session. You will also be 
 able to collect leaflets and fill out the questionnaire.
CLASS:PUBLIC
END:VEVENT
END:VCALENDAR
