BEGIN:VCALENDAR
PRODID:-//AT Content Types//AT Event//EN
VERSION:2.0
METHOD:PUBLISH
BEGIN:VEVENT
DTSTAMP:20260419T233523Z
CREATED:20161110T120439Z
UID:ATEvent-cffcc188ddbc41435190fd8bed7242eb
LAST-MODIFIED:20170103T153914Z
SUMMARY:Stoke Newington Drop-in session - Stoke Newington Library\, Stoke Newington Church Street\, N16 0JS
DTSTART:20161111T130000Z
DTEND:20161111T150000Z
DESCRIPTION:If you would like to talk to a Planning Officer about the 
 Local Plan 2033\, come along to our drop-in session. You will also be 
 able to collect leaflets and fill out the questionnaire.
CLASS:PUBLIC
END:VEVENT
END:VCALENDAR
