BEGIN:VCALENDAR
PRODID:-//AT Content Types//AT Event//EN
VERSION:2.0
METHOD:PUBLISH
BEGIN:VEVENT
DTSTAMP:20260420T012322Z
CREATED:20161110T120439Z
UID:ATEvent-a6d356676c3791f931aff3cd89aa3af2
LAST-MODIFIED:20170103T153914Z
SUMMARY:Woodberry Down Drop-in session - Redmond Community Centre - Kayani Avenue\, London\, N4 2HF
DTSTART:20161122T160000Z
DTEND:20161122T190000Z
DESCRIPTION:If you would like to talk to a Planning Officer about the 
 Local Plan 2033\, come along to our drop-in session. You will also be 
 able to collect leaflets and fill out the questionnaire.
CLASS:PUBLIC
END:VEVENT
END:VCALENDAR
