BEGIN:VCALENDAR
PRODID:-//AT Content Types//AT Event//EN
VERSION:2.0
METHOD:PUBLISH
BEGIN:VEVENT
DTSTAMP:20260421T215012Z
CREATED:20171025T155048Z
UID:ATEvent-708030cafd7f5cd4682c6283a2010716
LAST-MODIFIED:20171030T093054Z
SUMMARY:Drop-in Session
DTSTART:20171107T160000Z
DTEND:20171107T190000Z
DESCRIPTION:Merchant Taylor's Hall\, Shacklewell Row
CLASS:PUBLIC
END:VEVENT
END:VCALENDAR
