BEGIN:VCALENDAR
PRODID:-//AT Content Types//AT Event//EN
VERSION:2.0
METHOD:PUBLISH
BEGIN:VEVENT
DTSTAMP:20260422T003715Z
CREATED:20230816T142943Z
UID:ATEvent-3ebfca0fdb8d407cb96068c0893a5dda
LAST-MODIFIED:20230910T171519Z
SUMMARY:Conservation Area Review Drop in Session
DTSTART:20230925T170000Z
DTEND:20230925T180000Z
DESCRIPTION:Join us at Napier Grove Community Centre\, 1 Napier Grove\
 , London\, N1 7HU to discuss the proposed changes and share your thoug
 hts on the Underwood Street Conservation Area Review. We're looking fo
 rward to seeing you there!
CLASS:PUBLIC
END:VEVENT
END:VCALENDAR
