BEGIN:VCALENDAR
PRODID:-//AT Content Types//AT Event//EN
VERSION:2.0
METHOD:PUBLISH
BEGIN:VEVENT
DTSTAMP:20260421T140849Z
CREATED:20170119T170208Z
UID:ATEvent-c5ccea16875b5d8596a7104fe7d5d644
LAST-MODIFIED:20170221T165521Z
SUMMARY:London Tobacco Control Network quarterly meeting
DTSTART:20170317T093000Z
DTEND:20170317T153000Z
CLASS:PUBLIC
END:VEVENT
END:VCALENDAR
