BEGIN:VCALENDAR
PRODID:-//AT Content Types//AT Event//EN
VERSION:2.0
METHOD:PUBLISH
BEGIN:VEVENT
DTSTAMP:20260421T114715Z
CREATED:20210526T191646Z
UID:ATEvent-6230a34d81494de094d31d7c5c54766b
LAST-MODIFIED:20210601T140321Z
SUMMARY:Online Community Consultation Drop-in Session
DTSTART:20210618T150000Z
DTEND:20210618T163000Z
DESCRIPTION:An online drop in session will run on the 18th June 2021 b
 etween 16:00 and 17:30 in order to answer any queries and questions ov
 er the proposed designation of the Pitfield Street Conservation Area.\
 n\nRegister your interest: \nhttps://www.eventbrite.co.uk/e/designatio
 n-of-pitfield-street-conservation-area-tickets-156857154973
CLASS:PUBLIC
END:VEVENT
END:VCALENDAR
