BEGIN:VCALENDAR
PRODID:-//AT Content Types//AT Event//EN
VERSION:2.0
METHOD:PUBLISH
BEGIN:VEVENT
DTSTAMP:20260421T134240Z
CREATED:20210525T174525Z
UID:ATEvent-f80a8f4564ac49d9ae04434a1ce03287
LAST-MODIFIED:20210601T140745Z
SUMMARY:Review of South Shoreditch Conservation Area - Online Drop In Session 1
DTSTART:20210615T120000Z
DTEND:20210615T140000Z
DESCRIPTION:An online drop in session will run on the 15th June 2021 b
 etween 13:00 and 15:00 in order to answer any queries and questions ov
 er the updated appraisal and management plan along with a revised cons
 ervation area boundary. Join us at this drop in session to find out mo
 re about the proposals and have the opportunity to ask questions.  \n\
 nRegister your interest:\nhttps://www.eventbrite.co.uk/e/review-of-sou
 th-shoreditch-conservation-area-online-drop-in-session-1-tickets-15670
 7212491
CLASS:PUBLIC
END:VEVENT
END:VCALENDAR
