BEGIN:VCALENDAR
PRODID:-//AT Content Types//AT Event//EN
VERSION:2.0
METHOD:PUBLISH
BEGIN:VEVENT
DTSTAMP:20260421T232206Z
CREATED:20240131T182517Z
UID:ATEvent-cc879e3af56a4bed9d081f795bdbaacd
LAST-MODIFIED:20240131T192458Z
SUMMARY:Hoxton Co-design Workshop
DTSTART:20240219T180000Z
DTEND:20240219T193000Z
DESCRIPTION:Hoxton Hall\, 130 Hoxton Street\, London N1 6SH\n\nJoin us
  to discuss your area and contribute to a shared vision for Hoxton. Wo
 rkshop topics: public realm\, greening\, community spaces and places f
 or play and socialising.\n\nLocal food and drinks provided.\n\nPlease 
 RSVP to hoxton@erectarchitecture.co.uk so we can understand numbers fo
 r the session and for food and drinks.
CLASS:PUBLIC
END:VEVENT
END:VCALENDAR
