BEGIN:VCALENDAR
PRODID:-//AT Content Types//AT Event//EN
VERSION:2.0
METHOD:PUBLISH
BEGIN:VEVENT
DTSTAMP:20260422T003312Z
CREATED:20240301T153920Z
UID:ATEvent-c3cd9e010b1c41c2a70d8992257fe857
LAST-MODIFIED:20240305T143407Z
SUMMARY:Hoxton Co-design Workshop 2
DTSTART:20240314T160000Z
DTEND:20240314T173000Z
DESCRIPTION:Ivy Street Family Centre\, 54 Ivy Street\, N1 5JE\n\nConta
 ct hoxton@erectarchitecture.co.uk for more information.
CLASS:PUBLIC
END:VEVENT
END:VCALENDAR
