BEGIN:VCALENDAR
PRODID:-//AT Content Types//AT Event//EN
VERSION:2.0
METHOD:PUBLISH
BEGIN:VEVENT
DTSTAMP:20260420T183857Z
CREATED:20220621T171814Z
UID:ATEvent-0ce52bea8ff24fbe9431cbccd29d2a3c
LAST-MODIFIED:20220905T053826Z
SUMMARY:Morris Blitz Court Drop-in Event
DTSTART:20220721T150000Z
DTEND:20220721T180000Z
DESCRIPTION:Speak to a member of our team at the drop-in event on Thur
 sday 21 July\, 4 pm-7 pm outside the former Morris Blitz Court neighbo
 urhood office\, next to Farleigh Road.
CLASS:PUBLIC
END:VEVENT
END:VCALENDAR
