BEGIN:VCALENDAR
PRODID:-//AT Content Types//AT Event//EN
VERSION:2.0
METHOD:PUBLISH
BEGIN:VEVENT
DTSTAMP:20260421T213903Z
CREATED:20240712T134005Z
UID:ATEvent-2c50b622e5d24138bf5bb2d941df750f
LAST-MODIFIED:20240712T161900Z
SUMMARY:Public Engagement for Design Proposals
DTSTART:20240717T150000Z
DTEND:20240717T180000Z
DESCRIPTION:The session will be held under a gazebo outside the Lockne
 r Estate Community Flat on Blandford Court.\n\nWe encourage you to att
 end one of these sessions to view the designs and share your thoughts 
 and ideas.
CLASS:PUBLIC
END:VEVENT
END:VCALENDAR
