BEGIN:VCALENDAR
PRODID:-//AT Content Types//AT Event//EN
VERSION:2.0
METHOD:PUBLISH
BEGIN:VEVENT
DTSTAMP:20260421T214526Z
CREATED:20240712T103333Z
UID:ATEvent-0bbf983e1d784bc8b2c40faa0680b2d8
LAST-MODIFIED:20250106T134123Z
SUMMARY:Public Engagement for Design Proposals
DTSTART:20240713T130000Z
DTEND:20240713T160000Z
DESCRIPTION:The session will be held under a gazebo outside Fellows Co
 urt Community Centre.\n\nWe encourage you to attend one of these sessi
 ons to view the designs and share your thoughts and ideas.
CLASS:PUBLIC
END:VEVENT
END:VCALENDAR
