BEGIN:VCALENDAR
PRODID:-//AT Content Types//AT Event//EN
VERSION:2.0
METHOD:PUBLISH
BEGIN:VEVENT
DTSTAMP:20260421T214352Z
CREATED:20240712T103333Z
UID:ATEvent-beec3cd825064a4a9b08fcc538e1534c
LAST-MODIFIED:20250106T134123Z
SUMMARY:Public Engagement for Design Proposals
DTSTART:20240715T150000Z
DTEND:20240715T180000Z
DESCRIPTION:The session will be held under a gazebo outside Fellows Co
 urt Community Centre.\n\nWe encourage you to attend one of these sessi
 ons to view the designs and share your thoughts and ideas.
CLASS:PUBLIC
END:VEVENT
END:VCALENDAR
