BEGIN:VCALENDAR
PRODID:-//AT Content Types//AT Event//EN
VERSION:2.0
METHOD:PUBLISH
BEGIN:VEVENT
DTSTAMP:20260420T184149Z
CREATED:20220621T171504Z
UID:ATEvent-f8d60f115078462dab02af9a88d7e337
LAST-MODIFIED:20220905T054011Z
SUMMARY:Regent's Court Drop-in Event
DTSTART:20220716T100000Z
DTEND:20220716T130000Z
DESCRIPTION:Speak to a member of our team at the drop-in event on Satu
 rday 16 July\, 11am-2pm by the garages next to the ball court on the R
 egent’s Estate\, in front of the canal towpath.
CLASS:PUBLIC
END:VEVENT
END:VCALENDAR
