BEGIN:VCALENDAR
PRODID:-//AT Content Types//AT Event//EN
VERSION:2.0
METHOD:PUBLISH
BEGIN:VEVENT
DTSTAMP:20260424T060727Z
CREATED:20220621T171816Z
UID:ATEvent-288128beb14d47feac13c06a234d3f92
LAST-MODIFIED:20220908T091359Z
SUMMARY:Wayman Court and Graham Road Drop-in Event
DTSTART:20220728T150000Z
DTEND:20220728T180000Z
DESCRIPTION:This event is the rescheduled date for the event that was 
 due to take place on Tuesday 19 July. This will now take place on Thur
 sday 28 July.\n\nSpeak to a member of our team at the drop-in event on
  Thursday 28 July\, 4-7 pm next to the ball court at Weyman Terrace\, 
 E2 8LR.
CLASS:PUBLIC
END:VEVENT
END:VCALENDAR
