BEGIN:VCALENDAR
PRODID:-//AT Content Types//AT Event//EN
VERSION:2.0
METHOD:PUBLISH
BEGIN:VEVENT
DTSTAMP:20260421T225247Z
CREATED:20240709T111441Z
UID:ATEvent-ddf0a5ab2b2846ee8095dbbb347f76f0
LAST-MODIFIED:20240801T085524Z
SUMMARY:Public Engagement for Design Proposals
DTSTART:20240720T090000Z
DTEND:20240720T120000Z
DESCRIPTION:The session will be held under a gazebo on Benjamin Close.
 \nWe encourage you to attend one of these sessions to view the designs
  and share your thoughts and ideas.
CLASS:PUBLIC
END:VEVENT
END:VCALENDAR
