BEGIN:VCALENDAR
PRODID:-//AT Content Types//AT Event//EN
VERSION:2.0
METHOD:PUBLISH
BEGIN:VEVENT
DTSTAMP:20260421T213048Z
CREATED:20240709T111441Z
UID:ATEvent-7cffe880e03e48ef898bce95a7428346
LAST-MODIFIED:20240801T085524Z
SUMMARY:Public Engagement for Design Proposals
DTSTART:20240723T150000Z
DTEND:20240723T183000Z
DESCRIPTION:The sessions will be held under a gazebo on Benjamin Close
 .\nWe encourage you to attend one of these sessions to view the design
 s and share your thoughts and ideas.
CLASS:PUBLIC
END:VEVENT
END:VCALENDAR
