BEGIN:VCALENDAR
PRODID:-//AT Content Types//AT Event//EN
VERSION:2.0
METHOD:PUBLISH
BEGIN:VEVENT
DTSTAMP:20260422T165625Z
CREATED:20170911T082906Z
UID:ATEvent-c77b5c63c8654414958fd19612be8d65
LAST-MODIFIED:20220930T132352Z
SUMMARY:Public Drop-in Session
DTSTART:20170914T163000Z
DTEND:20170914T190000Z
DESCRIPTION:Hackney Opportunity Hub\, Pitfield\nStreet/Bowling Green W
 alk.
CLASS:PUBLIC
END:VEVENT
END:VCALENDAR
