BEGIN:VCALENDAR
PRODID:-//AT Content Types//AT Event//EN
VERSION:2.0
METHOD:PUBLISH
BEGIN:VEVENT
DTSTAMP:20260426T003436Z
CREATED:20170822T141746Z
UID:ATEvent-d088bff07895dac3f78799e6be8cec26
LAST-MODIFIED:20170914T145615Z
SUMMARY:Gayhurst Community School - School Streets proposal - Drop in
DTSTART:20170927T144500Z
DTEND:20170927T170000Z
DESCRIPTION:Gayhurst Community\nSchool\, Gayhurst Road\, Hackney\, E8 
 3EN
CLASS:PUBLIC
END:VEVENT
END:VCALENDAR
