BEGIN:VCALENDAR
PRODID:-//AT Content Types//AT Event//EN
VERSION:2.0
METHOD:PUBLISH
BEGIN:VEVENT
DTSTAMP:20260420T122803Z
CREATED:20181112T100425Z
UID:ATEvent-1f2702d3479ebd2ef23dad37df8f53a9
LAST-MODIFIED:20220930T132131Z
SUMMARY:Martello Street drop-in session
DTSTART:20181115T160000Z
DTEND:20181115T191000Z
CLASS:PUBLIC
END:VEVENT
END:VCALENDAR
