BEGIN:VCALENDAR
PRODID:-//AT Content Types//AT Event//EN
VERSION:2.0
METHOD:PUBLISH
BEGIN:VEVENT
DTSTAMP:20260420T122934Z
CREATED:20181112T100425Z
UID:ATEvent-8a1b741793a121a7a0f6725e10ef689b
LAST-MODIFIED:20220930T132132Z
SUMMARY:Pitfield Street (at the junction with Hyde Road) drop-in session
DTSTART:20181206T160000Z
DTEND:20181206T190000Z
CLASS:PUBLIC
END:VEVENT
END:VCALENDAR
