BEGIN:VCALENDAR
PRODID:-//AT Content Types//AT Event//EN
VERSION:2.0
METHOD:PUBLISH
BEGIN:VEVENT
DTSTAMP:20260421T163621Z
CREATED:20150819T094905Z
UID:ATEvent-c1b3e59520b621a672a09adf4ec03f1e
LAST-MODIFIED:20150828T170118Z
SUMMARY:Car Free Day in Shoreditch (Rivington Street)
DTSTART:20150922T090000Z
DTEND:20150922T150000Z
DESCRIPTION:Come talk to our ZEN project leaders about how reducing em
 ission can be good for your business! Become a member and get access t
 o free trials and discounts.
CLASS:PUBLIC
END:VEVENT
END:VCALENDAR
